BEGIN:VCALENDAR
VERSION:2.0
PRODID:-//Queer Konstanz - ECPv6.15.17.1//NONSGML v1.0//EN
CALSCALE:GREGORIAN
METHOD:PUBLISH
X-ORIGINAL-URL:https://queer-konstanz.de
X-WR-CALDESC:Veranstaltungen für Queer Konstanz
REFRESH-INTERVAL;VALUE=DURATION:PT1H
X-Robots-Tag:noindex
X-PUBLISHED-TTL:PT1H
BEGIN:VTIMEZONE
TZID:Europe/Berlin
BEGIN:DAYLIGHT
TZOFFSETFROM:+0100
TZOFFSETTO:+0200
TZNAME:CEST
DTSTART:20240331T010000
END:DAYLIGHT
BEGIN:STANDARD
TZOFFSETFROM:+0200
TZOFFSETTO:+0100
TZNAME:CET
DTSTART:20241027T010000
END:STANDARD
BEGIN:DAYLIGHT
TZOFFSETFROM:+0100
TZOFFSETTO:+0200
TZNAME:CEST
DTSTART:20250330T010000
END:DAYLIGHT
BEGIN:STANDARD
TZOFFSETFROM:+0200
TZOFFSETTO:+0100
TZNAME:CET
DTSTART:20251026T010000
END:STANDARD
BEGIN:DAYLIGHT
TZOFFSETFROM:+0100
TZOFFSETTO:+0200
TZNAME:CEST
DTSTART:20260329T010000
END:DAYLIGHT
BEGIN:STANDARD
TZOFFSETFROM:+0200
TZOFFSETTO:+0100
TZNAME:CET
DTSTART:20261025T010000
END:STANDARD
END:VTIMEZONE
BEGIN:VEVENT
DTSTART;TZID=Europe/Berlin:20251011T193000
DTEND;TZID=Europe/Berlin:20251011T193000
DTSTAMP:20260425T164513
CREATED:20251005T081533Z
LAST-MODIFIED:20251005T081533Z
UID:2313-1760211000-1760211000@queer-konstanz.de
SUMMARY:Jubiläumsveranstaltung 45 Jahre belladonna
DESCRIPTION:1980 – 2025  Das belladonna feiert! \nIn diesem Jahr feiern wir 45 Jahre belladonna\, Frauen & Kultur e.V. Konstanz\, \nWir laden alle Mitfrauen\, Feministinnen und queeren Frauen zur Jubiläumsveranstaltung am 11. Oktober 2025 ab 19.30 Uhr ins belladonna ein. \nZu diesem Anlass wollen wir gemeinsam einen Blick zurück zu den Anfängen der Neuen deutschen Frauenbewegung seit den 70er Jahren werfen und unsere Vorreiterinnen feiern. \nDer Abend beginnt mit einem Apéro\, danach zeigen wir den halbstündigen Film der Regisseurin Leila Fatima Keita: „Außer Männer hatten wir nichts zu verlieren.“ * \nLeila Fatima Keita ist Absolventin der Münchner Hochschule für Fernsehen und Film\, sie und die Co-Regisseurin Heike Hocker werden anwesend sein. \nZwischen Apéro und dem Film gibt es einen ca. dreißigminütigen\, moderierten Talk\, in dem sich die beiden Regisseurinnen vorstellen\, nach dem Film besteht die Möglichkeit zum Austausch. \nIm Anschluss daran geht es beschwingt in die Nacht hinein. \n*Zum Film: \nHanna und Leila\, zwei feministische Filmemacherinnen\, kennen ihre Vorkämpferinnen bisher nur aus Büchern. Als sie eine alte Kassette finden\, beginnt ihre filmische Suche. 1975 entstand der erste Frauenbuchladen in München: Männer durften dort nicht rein. Bei einem Gespräch mit den Inhaberinnen wird klar\, sie haben ihren Kämpferinnen-Geist auch nach all den Jahren nicht verloren. Wir sind ihnen zu brav\, aber können auch sie etwas von uns lernen? Was trennt uns\, was verbindet? \nDie Filmemacher*innen Leila Keita und Hanna Hocker begeben sich auf eine Reise zu den Anfängen der Münchner Frauenbewegung der 1970er-Jahre. Dabei stoßen sie auf Archivmaterial zur Eröffnung des ersten Frauenbuchladens Deutschlands\, Lillemors\, der am 3. November 1975 von sechs Frauen in München gegründet wurde. Die Regisseur*innen beschließen\, den Buchladen und seine Mitbegründerin Monika Neuser zum Ausgangspunkt ihres Films zu machen. Im Fokus steht dabei eines der ersten Safe Spaces für Frauen vor Ort\, in dem Männern der Zutritt verwehrt ist. Lillemors wird zu einem wichtigen Treffpunkt für emanzipierte Frauen aus München und ganz Deutschland– ein Ort für Austausch\, Vernetzung und feministische Aktionen. 
URL:https://queer-konstanz.de/veranstaltung/jubilaeumsveranstaltung-45-jahre-belladonna/
LOCATION:belladonna Frauen und Kultur e.V.\, Oberlohnstraße 3\, Konstanz\, 78467\, Germany
CATEGORIES:Angebote für Frauen,Film,Party
ORGANIZER;CN="belladonna Frauen und Kultur e.V.":MAILTO:info@belladonna-konstanz.de
END:VEVENT
BEGIN:VEVENT
DTSTART;TZID=Europe/Berlin:20251021T203500
DTEND;TZID=Europe/Berlin:20251021T224500
DTSTAMP:20260425T164513
CREATED:20251013T183224Z
LAST-MODIFIED:20251013T194707Z
UID:2338-1761078900-1761086700@queer-konstanz.de
SUMMARY:Pooja\, Sir - Queerstreifen
DESCRIPTION:Das Queergestreift Filmfestival zeigt jeden Monat mindestens einen queeren Film im regulären Programm. \nIm Oktober zeigen wir am 21.10.2025 um 20.35 Uhr „Pooja\, Sir“. \nPooja\, eine lesbische Polizistin\, ist gleich mehrfacher Diskriminierung ausgesetzt und kommt einer bitteren Wahrheit auf die Spur. Die Geschichte ist inspiriert von realen Ereignissen\, die während der heftigen Proteste gegen einen neuen Verfassungsentwurf 2015 in Südnepal stattfanden. Gestützt wird sie von wahren Zeug*innenaussagen und eigenen Erfahrungen mit Diskriminierung und wirft damit einen scharfen Blick auf interethnische Spannungen in einer vom Kastensystem geprägten Gesellschaft. \n115 Min.\, Originalverfilmung mit deutschen Untertiteln. \nTicket: 9€\, ermäßigt: 7€ \nDiesen Monat im Zebra
URL:https://queer-konstanz.de/veranstaltung/pooja-sir-queerstreifen/
LOCATION:Zebra-Kino\, Joseph-Belli-Weg 5\, Konstanz\, Baden-Württemberg\, 78462\, Germany
CATEGORIES:Film
END:VEVENT
BEGIN:VEVENT
DTSTART;TZID=Europe/Berlin:20251027T183000
DTEND;TZID=Europe/Berlin:20251027T203000
DTSTAMP:20260425T164513
CREATED:20251023T155717Z
LAST-MODIFIED:20251023T155717Z
UID:2366-1761589800-1761597000@queer-konstanz.de
SUMMARY:Queergestreift zum Mitmachen - Kennenlernreffen
DESCRIPTION:Du interessiert dich für Filme\, Kultur und Austausch?\nVom 16.04.-26.04.2026 findet das 39. Queergestreift Filmfestival statt.\nUnd vielleicht ja mit dir hinter den Kulissen 🎬\nLern ein Filmfestival doch mal vom anderen Ufer kennen und gestalte aktive 11 Tage voller bunter Filme und kulturen Angeboten mit – lass deine Ideen Wirklichkeit werden!\nWir sind ein kleines ehrenamtliches Team und freuen uns über alle die uns mit ihren Möglichkeiten unterstützen wollen 🦓🏳️‍🌈\nLern uns am 27.10. kennen. Wir geben dir einen ersten Einblick in die Festivalplanung. Und du kannst all deine Fragen los werden. Wir treffen uns um 18:30 im Zebra Büro (ein Stockwerk über dem Kino).
URL:https://queer-konstanz.de/veranstaltung/queergestreift-zum-mitmachen-kennenlernreffen/
LOCATION:Zebra-Kino\, Joseph-Belli-Weg 5\, Konstanz\, Baden-Württemberg\, 78462\, Germany
CATEGORIES:Entspanntes beisammensein,Infostand
END:VEVENT
END:VCALENDAR