BEGIN:VCALENDAR
VERSION:2.0
PRODID:-//Queer Konstanz - ECPv6.15.17.1//NONSGML v1.0//EN
CALSCALE:GREGORIAN
METHOD:PUBLISH
X-ORIGINAL-URL:https://queer-konstanz.de
X-WR-CALDESC:Veranstaltungen für Queer Konstanz
REFRESH-INTERVAL;VALUE=DURATION:PT1H
X-Robots-Tag:noindex
X-PUBLISHED-TTL:PT1H
BEGIN:VTIMEZONE
TZID:Europe/Berlin
BEGIN:DAYLIGHT
TZOFFSETFROM:+0100
TZOFFSETTO:+0200
TZNAME:CEST
DTSTART:20240331T010000
END:DAYLIGHT
BEGIN:STANDARD
TZOFFSETFROM:+0200
TZOFFSETTO:+0100
TZNAME:CET
DTSTART:20241027T010000
END:STANDARD
BEGIN:DAYLIGHT
TZOFFSETFROM:+0100
TZOFFSETTO:+0200
TZNAME:CEST
DTSTART:20250330T010000
END:DAYLIGHT
BEGIN:STANDARD
TZOFFSETFROM:+0200
TZOFFSETTO:+0100
TZNAME:CET
DTSTART:20251026T010000
END:STANDARD
BEGIN:DAYLIGHT
TZOFFSETFROM:+0100
TZOFFSETTO:+0200
TZNAME:CEST
DTSTART:20260329T010000
END:DAYLIGHT
BEGIN:STANDARD
TZOFFSETFROM:+0200
TZOFFSETTO:+0100
TZNAME:CET
DTSTART:20261025T010000
END:STANDARD
END:VTIMEZONE
BEGIN:VEVENT
DTSTART;TZID=Europe/Berlin:20251031T210000
DTEND;TZID=Europe/Berlin:20251101T030000
DTSTAMP:20260424T225242
CREATED:20251028T193727Z
LAST-MODIFIED:20251028T210540Z
UID:2376-1761944400-1761966000@queer-konstanz.de
SUMMARY:Hauntingly Queer - Halloween im Contrast
DESCRIPTION:Die traditionelle Halloweenparty im Contrast wird dieses Jahr von der Queerkneipe und dem Queergestreift Filmfestival unterstützt.\nNeben Mixed Music zu Beginn und grandiosen Technosets gibt es auch eine kleine Drag Show um ca. 23 Uhr.\nKomm in deiner dunkelsten Natur\, egal ob Vampire\, Wolf oder Drag\, wir gruseln uns jetzt schon! \nStart 21:00 Uhr\nEnde 3:00 Uhr
URL:https://queer-konstanz.de/veranstaltung/hauntingly-queer-halloween-im-contrast/
LOCATION:Contrast – Joseph-Belli-Weg 11\, Petershausen\, 78467 Konstanz\, Deutschland\, Joseph-Belli-Weg 11\, Konstanz - Petershausen\, Deutschland\, 78467
CATEGORIES:Party
ORGANIZER;CN="JugendKultur e.V. Contrast":MAILTO:kontakt@contrast-kn.de
END:VEVENT
BEGIN:VEVENT
DTSTART;TZID=Europe/Berlin:20251102T203000
DTEND;TZID=Europe/Berlin:20251102T225500
DTSTAMP:20260424T225242
CREATED:20251028T193545Z
LAST-MODIFIED:20251028T193545Z
UID:2375-1762115400-1762124100@queer-konstanz.de
SUMMARY:A USEFUL GHOST - Queerer Film - Shivers Kooperation
DESCRIPTION:Diesen Monat zeigen wir den monatlichen queeren Film in Kooperation mit dem Shivers Film Festival.\nAm Sonntag\, 02.11.2025 Beginn 20:30Uhr – Thailändische Originalversion mit deutschen Untertiteln \nA USEFUL GHOST\nPrestigeträchtige Neubauten wie Einkaufszentren und Bürokomplexe verändern nicht nur das Stadtbild\, sondern verursachen auch erheblichen Baustaub\, der die Anwohner belastet. Zunächst scheint ein neuer Staubsauger Abhilfe zu schaffen. Doch bald zeigt das Gerät ein unheimliches Eigenleben: Es hustet und spuckt nachts den eingesaugten Schmutz wieder aus. Der Kundendienst hat eine klare Erklärung: Der Staubsauger ist von einem Geist besessen! Und er ist nicht der Einzige: Verstorbene Fabrikarbeiter suchen in Industrierobotern ihre früheren Produktionsstätten heim; früh verstorbene Ehefrauen sehnen sich nach ihren unglücklichen Witwern. So entsteht ein ungewöhnliches Geisterpanorama. Diese eigenartigen Haushaltsgeräte sind zunächst störend\, entfachen dann eine unerwartete erotische Spannung und entwickeln sich schließlich zu den heimlichen Helfern autoritärer Regime. Auf sanft-humorvolle Weise erkundet A USEFUL GHOST die Beziehungen zwischen Menschen und Geistern sowie die Gesellschaft\, in der diese Verbindungen sichtbar werden – und das in all ihren Facetten: unsterbliche Liebe gegen den Willen des Clans\, kapitalistische Ausbeutung durch staatlich geprüfte Musterunternehmerinnen und politische Manipulationsversuche einer verbrecherischen Elite. \nTickets gibt es hier: https://zebra-kino.de/monatsprogramm/\nRegulär: 10€\nErmäßigt: 8€ \nVom 30. Oktober bis zum 2. November präsentiert das Shivers Film Festival in 10 Vorstellungen ein aufregendes Programm aus dem Genre Horror\, Thriller\, Sci-Fi\, Fantasy. https://www.shivers.de/festival/
URL:https://queer-konstanz.de/veranstaltung/a-useful-ghost-queerer-film-shivers-kooperation/
LOCATION:Zebra-Kino\, Joseph-Belli-Weg 5\, Konstanz\, Baden-Württemberg\, 78462\, Germany
CATEGORIES:Film
END:VEVENT
BEGIN:VEVENT
DTSTART;TZID=Europe/Berlin:20251108T110000
DTEND;TZID=Europe/Berlin:20251108T160000
DTSTAMP:20260424T225242
CREATED:20251017T145834Z
LAST-MODIFIED:20251017T145834Z
UID:2346-1762599600-1762617600@queer-konstanz.de
SUMMARY:Kuchen für die Welt - Infostand
DESCRIPTION:Am jeweils 1. Samstag des Monats von Februar bis November (dieses Mal ausnahmsweise aufgrund des Feiertags am 2. Samstag) findest du uns auf der Marktstätte in Konstanz mit unserem Infostand. Wir geben dort auch süßes oder herzhaft Gebackenes aus\, damit alle entdecken können wie toll veganes Essen ist.
URL:https://queer-konstanz.de/veranstaltung/kuchen-fuer-die-welt-infostand-2/
LOCATION:Marktstätte\, Konstanz\, 78462
CATEGORIES:Entspanntes beisammensein,Infostand
END:VEVENT
BEGIN:VEVENT
DTSTART;TZID=Europe/Berlin:20251113T190000
DTEND;TZID=Europe/Berlin:20251113T210000
DTSTAMP:20260424T225242
CREATED:20251108T223357Z
LAST-MODIFIED:20251108T223357Z
UID:2392-1763060400-1763067600@queer-konstanz.de
SUMMARY:Queerstreifen – PETER HUJAR'S DAY
DESCRIPTION:In unserem Queerstreifen Double Feature im November zeigen wir als ersten Film Ira Sachs‘ PETER HUJAR’S DAY.\nEin verrauchter Spätnachmittag im Jahr 1974. Fotograf Peter Hujar\, eine der wichtigsten Figuren der New Yorker Szene\, erzählt seiner Freundin Linda Rosenkrantz für ein Kunstprojekt von den vergangenen 24 Stunden seines Lebens: über das Leben in einer Stadt\, in der alle Kunst machen wollen\, aber niemand Geld hat; über ein Treffen mit Allen Ginsberg\, der ihm Oralsex mit William S. Burroughs nahelegt; über die schriftstellerischen Vorzüge von Susan Sontag gegenüber Fran Lebowitz; oder auch nur über sein Abendessen. Die beiden sprechen bis in die Nacht\, wie es nur Vertraute können – ehrlich\, intim\, mit leisem Witz und großer Zuneigung. Ein warmherziger\, vielschichtiger Film über die Wunder des künstlerischen Schaffens\, kongenial besetzt mit Ben Whishaw und Rebecca Hall.
URL:https://queer-konstanz.de/veranstaltung/queerstreifen-peter-hujars-day/
LOCATION:Zebra-Kino\, Joseph-Belli-Weg 5\, Konstanz\, Baden-Württemberg\, 78462\, Germany
CATEGORIES:Film
END:VEVENT
BEGIN:VEVENT
DTSTART;TZID=Europe/Berlin:20251113T190000
DTEND;TZID=Europe/Berlin:20251113T213000
DTSTAMP:20260424T225242
CREATED:20251108T223311Z
LAST-MODIFIED:20251108T223311Z
UID:2385-1763060400-1763069400@queer-konstanz.de
SUMMARY:Queerer Treff
DESCRIPTION:Offener Treff für queere Jugendliche und Allies von 14-27 Jahren
URL:https://queer-konstanz.de/veranstaltung/queerer-treff-2/
LOCATION:JUZE – Jugendzentrum Konstanz\, Gustav-Schwab-Straße 12c\, Konstanz - Petershausen\, Deutschland\, 78467
CATEGORIES:Entspanntes beisammensein
END:VEVENT
BEGIN:VEVENT
DTSTART;TZID=Europe/Berlin:20251113T204500
DTEND;TZID=Europe/Berlin:20251113T224500
DTSTAMP:20260424T225242
CREATED:20251108T223428Z
LAST-MODIFIED:20251108T223428Z
UID:2393-1763066700-1763073900@queer-konstanz.de
SUMMARY:Queerstreifen – SAUNA
DESCRIPTION:Als zweiten Film in unserem Queerstreifen Double Feature im November zeigen wir Mathias Broes SAUNA.\nJohan lässt sich vom Leben treiben und passt damit perfekt in Kopenhagens schwule Szene mit ihren Kneipen\, Partys und One-Night-Stands. Besonders viel Zeit verbringt er dabei im Adonis\, der einzigen Schwulensauna der Stadt\, wo er nicht nur seit Kurzem arbeitet\, sondern auch unverbindliche sexuelle Erlebnisse mit den Besuchern teilt. Trotz allem sehnt sich Johan noch immer nach Nähe – und findet diese bei William\, einem einfühlsamen trans Mann. Schnell stellt er jedoch fest\, dass nicht alle im Adonis damit einverstanden sind\, dass er sich in eine Person verliebt hat\, die sie nicht als Teil ihres Männerbundes verstehen. Nicht fit\, nicht weiß\, nicht männlich genug fürs Adonis? Mathias Broe Debüt „Sauna“ ist ein lustvoller Film über Männer\, die Männer lieben – und der gleichzeitig mit einer diskriminierenden schwulen Dating-Kultur abrechnet. Broe navigiert dabei gekonnt die Beziehung seiner Hauptfiguren\, die von Lust und Neugier geprägt ist. Aber auch von gesellschaftlichen Erwartungen\, die Johan und William ständig unter Druck setzen. „Sauna“ ist feinfühlig\, sexy und eine Feier der intimen Verbindungen\, die entstehen\, wenn Menschen sich frei machen vom Blick der anderen.
URL:https://queer-konstanz.de/veranstaltung/queerstreifen-sauna/
LOCATION:Zebra-Kino\, Joseph-Belli-Weg 5\, Konstanz\, Baden-Württemberg\, 78462\, Germany
CATEGORIES:Film
END:VEVENT
BEGIN:VEVENT
DTSTART;TZID=Europe/Berlin:20251114T210000
DTEND;TZID=Europe/Berlin:20251114T210000
DTSTAMP:20260424T225242
CREATED:20251005T081349Z
LAST-MODIFIED:20251005T081349Z
UID:2321-1763154000-1763154000@queer-konstanz.de
SUMMARY:belladonna Barabend
DESCRIPTION:Die Abende bieten die Möglichkeit\, in gemütlicher Runde zusammenzusitzen\, neue Kontakte zu knüpfen oder spontan eine Tischfußballrunde mit Soccer-Ladies zu wagen. Auch könnt ihr euch in Zeitschriften über aktuelle feministische und queere Themen informieren.
URL:https://queer-konstanz.de/veranstaltung/belladonna-barabend/
LOCATION:belladonna Frauen und Kultur e.V.\, Oberlohnstraße 3\, Konstanz\, 78467\, Germany
CATEGORIES:Angebote für Frauen,Entspanntes beisammensein
ORGANIZER;CN="belladonna Frauen und Kultur e.V.":MAILTO:info@belladonna-konstanz.de
END:VEVENT
BEGIN:VEVENT
DTSTART;TZID=Europe/Berlin:20251116T100000
DTEND;TZID=Europe/Berlin:20251116T100000
DTSTAMP:20260424T225242
CREATED:20251005T081407Z
LAST-MODIFIED:20251005T081407Z
UID:2323-1763287200-1763287200@queer-konstanz.de
SUMMARY:belladonna Brunch
DESCRIPTION:Raus aus den Federn \nRan ans Buffet \nUnkostenbeitrag
URL:https://queer-konstanz.de/veranstaltung/belladonna-brunch/
LOCATION:belladonna Frauen und Kultur e.V.\, Oberlohnstraße 3\, Konstanz\, 78467\, Germany
CATEGORIES:Angebote für Frauen,Brunch
ORGANIZER;CN="belladonna Frauen und Kultur e.V.":MAILTO:info@belladonna-konstanz.de
END:VEVENT
BEGIN:VEVENT
DTSTART;TZID=Europe/Berlin:20251116T100000
DTEND;TZID=Europe/Berlin:20251116T130000
DTSTAMP:20260424T225242
CREATED:20251017T145811Z
LAST-MODIFIED:20251017T145811Z
UID:2344-1763287200-1763298000@queer-konstanz.de
SUMMARY:Veganer Mitbring-Brunch
DESCRIPTION:Jeden 3. Sonntag im Monat organisieren wir im Café Mondial in Konstanz den veganen Mitbringbrunch. Du willst uns kennenlernen und lecker essen? Dann ist das der ideale Ort. Bring etwas Veganes mit und probiere von den anderen mitgebrachten Leckereien am Buffet.
URL:https://queer-konstanz.de/veranstaltung/veganer-mitbring-brunch-2/
LOCATION:Cafe Mondial\, Zum Hussenstein 12\, Konstanz
CATEGORIES:Brunch,Entspanntes beisammensein
END:VEVENT
BEGIN:VEVENT
DTSTART;TZID=Europe/Berlin:20251120T190000
DTEND;TZID=Europe/Berlin:20251120T190000
DTSTAMP:20260424T225242
CREATED:20251005T081426Z
LAST-MODIFIED:20251005T081426Z
UID:2325-1763665200-1763665200@queer-konstanz.de
SUMMARY:belladonna Coming-Out Treff
DESCRIPTION:Eines der Angebote des belladonna ist der regelmäßige Coming-Out-Treff. \nDiese Treffen finden außerhalb der regulären Öffnungszeiten des belladonna\, Oberlohnstr.3\, 78467 Konstanz\, in vertraulicher Atmosphäre statt.
URL:https://queer-konstanz.de/veranstaltung/belladonna-coming-out-treff/
LOCATION:belladonna Frauen und Kultur e.V.\, Oberlohnstraße 3\, Konstanz\, 78467\, Germany
CATEGORIES:Angebote für Frauen
ORGANIZER;CN="belladonna Frauen und Kultur e.V.":MAILTO:info@belladonna-konstanz.de
END:VEVENT
BEGIN:VEVENT
DTSTART;TZID=Europe/Berlin:20251120T190000
DTEND;TZID=Europe/Berlin:20251120T213000
DTSTAMP:20260424T225242
CREATED:20251108T223606Z
LAST-MODIFIED:20251108T223606Z
UID:2387-1763665200-1763674200@queer-konstanz.de
SUMMARY:Queerer Treff
DESCRIPTION:Offener Treff für queere Jugendliche und Allies von 14-27 Jahren
URL:https://queer-konstanz.de/veranstaltung/queerer-treff-3/
LOCATION:JUZE – Jugendzentrum Konstanz\, Gustav-Schwab-Straße 12c\, Konstanz - Petershausen\, Deutschland\, 78467
CATEGORIES:Entspanntes beisammensein
END:VEVENT
BEGIN:VEVENT
DTSTART;TZID=Europe/Berlin:20251127T190000
DTEND;TZID=Europe/Berlin:20251127T210000
DTSTAMP:20260424T225242
CREATED:20251013T183111Z
LAST-MODIFIED:20251013T183111Z
UID:2333-1764270000-1764277200@queer-konstanz.de
SUMMARY:belladonna Feministischer Gesprächskreis
DESCRIPTION:„warum nicht“ \nWir – Ulrike und Hariett – laden ein zu einem Austausch über die prägenden Beziehungen zu Frauen in unseren Leben. \nWir wollen Frauen mit ihren Biographien\, ihren Erfahrungen und Weltanschauung in den Fokus rücken. \nVon 19 – 21 Uhr im belladonna\, Oberlohnstraße 3\, 78467 Konstanz \nAnmeldung nicht erforderlich\, einfach vorbeikommen\, erzählen und zuhören. \nEinlass: 18:30 Uhr
URL:https://queer-konstanz.de/veranstaltung/belladonna-feministischer-gespraechskreis/
LOCATION:belladonna Frauen und Kultur e.V.\, Oberlohnstraße 3\, Konstanz\, 78467\, Germany
CATEGORIES:Angebote für Frauen
ORGANIZER;CN="belladonna Frauen und Kultur e.V.":MAILTO:info@belladonna-konstanz.de
END:VEVENT
BEGIN:VEVENT
DTSTART;TZID=Europe/Berlin:20251127T190000
DTEND;TZID=Europe/Berlin:20251127T213000
DTSTAMP:20260424T225242
CREATED:20251108T223219Z
LAST-MODIFIED:20251108T223219Z
UID:2389-1764270000-1764279000@queer-konstanz.de
SUMMARY:Queerer Treff
DESCRIPTION:Offener Treff für queere Jugendliche und Allies von 14-27 Jahren
URL:https://queer-konstanz.de/veranstaltung/queerer-treff/
LOCATION:JUZE – Jugendzentrum Konstanz\, Gustav-Schwab-Straße 12c\, Konstanz - Petershausen\, Deutschland\, 78467
CATEGORIES:Entspanntes beisammensein
END:VEVENT
END:VCALENDAR