BEGIN:VCALENDAR
VERSION:2.0
PRODID:-//Queer Konstanz - ECPv6.15.17.1//NONSGML v1.0//EN
CALSCALE:GREGORIAN
METHOD:PUBLISH
X-ORIGINAL-URL:https://queer-konstanz.de
X-WR-CALDESC:Veranstaltungen für Queer Konstanz
REFRESH-INTERVAL;VALUE=DURATION:PT1H
X-Robots-Tag:noindex
X-PUBLISHED-TTL:PT1H
BEGIN:VTIMEZONE
TZID:Europe/Berlin
BEGIN:DAYLIGHT
TZOFFSETFROM:+0100
TZOFFSETTO:+0200
TZNAME:CEST
DTSTART:20240331T010000
END:DAYLIGHT
BEGIN:STANDARD
TZOFFSETFROM:+0200
TZOFFSETTO:+0100
TZNAME:CET
DTSTART:20241027T010000
END:STANDARD
BEGIN:DAYLIGHT
TZOFFSETFROM:+0100
TZOFFSETTO:+0200
TZNAME:CEST
DTSTART:20250330T010000
END:DAYLIGHT
BEGIN:STANDARD
TZOFFSETFROM:+0200
TZOFFSETTO:+0100
TZNAME:CET
DTSTART:20251026T010000
END:STANDARD
BEGIN:DAYLIGHT
TZOFFSETFROM:+0100
TZOFFSETTO:+0200
TZNAME:CEST
DTSTART:20260329T010000
END:DAYLIGHT
BEGIN:STANDARD
TZOFFSETFROM:+0200
TZOFFSETTO:+0100
TZNAME:CET
DTSTART:20261025T010000
END:STANDARD
END:VTIMEZONE
BEGIN:VEVENT
DTSTART;TZID=Europe/Berlin:20251120T190000
DTEND;TZID=Europe/Berlin:20251120T190000
DTSTAMP:20260425T003107
CREATED:20251005T081426Z
LAST-MODIFIED:20251005T081426Z
UID:2325-1763665200-1763665200@queer-konstanz.de
SUMMARY:belladonna Coming-Out Treff
DESCRIPTION:Eines der Angebote des belladonna ist der regelmäßige Coming-Out-Treff. \nDiese Treffen finden außerhalb der regulären Öffnungszeiten des belladonna\, Oberlohnstr.3\, 78467 Konstanz\, in vertraulicher Atmosphäre statt.
URL:https://queer-konstanz.de/veranstaltung/belladonna-coming-out-treff/
LOCATION:belladonna Frauen und Kultur e.V.\, Oberlohnstraße 3\, Konstanz\, 78467\, Germany
CATEGORIES:Angebote für Frauen
ORGANIZER;CN="belladonna Frauen und Kultur e.V.":MAILTO:info@belladonna-konstanz.de
END:VEVENT
BEGIN:VEVENT
DTSTART;TZID=Europe/Berlin:20251120T190000
DTEND;TZID=Europe/Berlin:20251120T213000
DTSTAMP:20260425T003107
CREATED:20251108T223606Z
LAST-MODIFIED:20251108T223606Z
UID:2387-1763665200-1763674200@queer-konstanz.de
SUMMARY:Queerer Treff
DESCRIPTION:Offener Treff für queere Jugendliche und Allies von 14-27 Jahren
URL:https://queer-konstanz.de/veranstaltung/queerer-treff-3/
LOCATION:JUZE – Jugendzentrum Konstanz\, Gustav-Schwab-Straße 12c\, Konstanz - Petershausen\, Deutschland\, 78467
CATEGORIES:Entspanntes beisammensein
END:VEVENT
END:VCALENDAR