BEGIN:VCALENDAR
VERSION:2.0
PRODID:-//Queer Konstanz - ECPv6.15.17.1//NONSGML v1.0//EN
CALSCALE:GREGORIAN
METHOD:PUBLISH
X-ORIGINAL-URL:https://queer-konstanz.de
X-WR-CALDESC:Veranstaltungen für Queer Konstanz
REFRESH-INTERVAL;VALUE=DURATION:PT1H
X-Robots-Tag:noindex
X-PUBLISHED-TTL:PT1H
BEGIN:VTIMEZONE
TZID:Europe/Berlin
BEGIN:DAYLIGHT
TZOFFSETFROM:+0100
TZOFFSETTO:+0200
TZNAME:CEST
DTSTART:20240331T010000
END:DAYLIGHT
BEGIN:STANDARD
TZOFFSETFROM:+0200
TZOFFSETTO:+0100
TZNAME:CET
DTSTART:20241027T010000
END:STANDARD
BEGIN:DAYLIGHT
TZOFFSETFROM:+0100
TZOFFSETTO:+0200
TZNAME:CEST
DTSTART:20250330T010000
END:DAYLIGHT
BEGIN:STANDARD
TZOFFSETFROM:+0200
TZOFFSETTO:+0100
TZNAME:CET
DTSTART:20251026T010000
END:STANDARD
BEGIN:DAYLIGHT
TZOFFSETFROM:+0100
TZOFFSETTO:+0200
TZNAME:CEST
DTSTART:20260329T010000
END:DAYLIGHT
BEGIN:STANDARD
TZOFFSETFROM:+0200
TZOFFSETTO:+0100
TZNAME:CET
DTSTART:20261025T010000
END:STANDARD
END:VTIMEZONE
BEGIN:VEVENT
DTSTART;TZID=Europe/Berlin:20251102T203000
DTEND;TZID=Europe/Berlin:20251102T225500
DTSTAMP:20260425T003154
CREATED:20251028T193545Z
LAST-MODIFIED:20251028T193545Z
UID:2375-1762115400-1762124100@queer-konstanz.de
SUMMARY:A USEFUL GHOST - Queerer Film - Shivers Kooperation
DESCRIPTION:Diesen Monat zeigen wir den monatlichen queeren Film in Kooperation mit dem Shivers Film Festival.\nAm Sonntag\, 02.11.2025 Beginn 20:30Uhr – Thailändische Originalversion mit deutschen Untertiteln \nA USEFUL GHOST\nPrestigeträchtige Neubauten wie Einkaufszentren und Bürokomplexe verändern nicht nur das Stadtbild\, sondern verursachen auch erheblichen Baustaub\, der die Anwohner belastet. Zunächst scheint ein neuer Staubsauger Abhilfe zu schaffen. Doch bald zeigt das Gerät ein unheimliches Eigenleben: Es hustet und spuckt nachts den eingesaugten Schmutz wieder aus. Der Kundendienst hat eine klare Erklärung: Der Staubsauger ist von einem Geist besessen! Und er ist nicht der Einzige: Verstorbene Fabrikarbeiter suchen in Industrierobotern ihre früheren Produktionsstätten heim; früh verstorbene Ehefrauen sehnen sich nach ihren unglücklichen Witwern. So entsteht ein ungewöhnliches Geisterpanorama. Diese eigenartigen Haushaltsgeräte sind zunächst störend\, entfachen dann eine unerwartete erotische Spannung und entwickeln sich schließlich zu den heimlichen Helfern autoritärer Regime. Auf sanft-humorvolle Weise erkundet A USEFUL GHOST die Beziehungen zwischen Menschen und Geistern sowie die Gesellschaft\, in der diese Verbindungen sichtbar werden – und das in all ihren Facetten: unsterbliche Liebe gegen den Willen des Clans\, kapitalistische Ausbeutung durch staatlich geprüfte Musterunternehmerinnen und politische Manipulationsversuche einer verbrecherischen Elite. \nTickets gibt es hier: https://zebra-kino.de/monatsprogramm/\nRegulär: 10€\nErmäßigt: 8€ \nVom 30. Oktober bis zum 2. November präsentiert das Shivers Film Festival in 10 Vorstellungen ein aufregendes Programm aus dem Genre Horror\, Thriller\, Sci-Fi\, Fantasy. https://www.shivers.de/festival/
URL:https://queer-konstanz.de/veranstaltung/a-useful-ghost-queerer-film-shivers-kooperation/
LOCATION:Zebra-Kino\, Joseph-Belli-Weg 5\, Konstanz\, Baden-Württemberg\, 78462\, Germany
CATEGORIES:Film
END:VEVENT
END:VCALENDAR