BEGIN:VCALENDAR
VERSION:2.0
PRODID:-//Queer Konstanz - ECPv6.15.17.1//NONSGML v1.0//EN
CALSCALE:GREGORIAN
METHOD:PUBLISH
X-WR-CALNAME:Queer Konstanz
X-ORIGINAL-URL:https://queer-konstanz.de
X-WR-CALDESC:Veranstaltungen für Queer Konstanz
REFRESH-INTERVAL;VALUE=DURATION:PT1H
X-Robots-Tag:noindex
X-PUBLISHED-TTL:PT1H
BEGIN:VTIMEZONE
TZID:Europe/Berlin
BEGIN:DAYLIGHT
TZOFFSETFROM:+0100
TZOFFSETTO:+0200
TZNAME:CEST
DTSTART:20240331T010000
END:DAYLIGHT
BEGIN:STANDARD
TZOFFSETFROM:+0200
TZOFFSETTO:+0100
TZNAME:CET
DTSTART:20241027T010000
END:STANDARD
BEGIN:DAYLIGHT
TZOFFSETFROM:+0100
TZOFFSETTO:+0200
TZNAME:CEST
DTSTART:20250330T010000
END:DAYLIGHT
BEGIN:STANDARD
TZOFFSETFROM:+0200
TZOFFSETTO:+0100
TZNAME:CET
DTSTART:20251026T010000
END:STANDARD
BEGIN:DAYLIGHT
TZOFFSETFROM:+0100
TZOFFSETTO:+0200
TZNAME:CEST
DTSTART:20260329T010000
END:DAYLIGHT
BEGIN:STANDARD
TZOFFSETFROM:+0200
TZOFFSETTO:+0100
TZNAME:CET
DTSTART:20261025T010000
END:STANDARD
END:VTIMEZONE
BEGIN:VEVENT
DTSTART;TZID=Europe/Berlin:20251027T183000
DTEND;TZID=Europe/Berlin:20251027T203000
DTSTAMP:20260425T002531
CREATED:20251023T155717Z
LAST-MODIFIED:20251023T155717Z
UID:2366-1761589800-1761597000@queer-konstanz.de
SUMMARY:Queergestreift zum Mitmachen - Kennenlernreffen
DESCRIPTION:Du interessiert dich für Filme\, Kultur und Austausch?\nVom 16.04.-26.04.2026 findet das 39. Queergestreift Filmfestival statt.\nUnd vielleicht ja mit dir hinter den Kulissen 🎬\nLern ein Filmfestival doch mal vom anderen Ufer kennen und gestalte aktive 11 Tage voller bunter Filme und kulturen Angeboten mit – lass deine Ideen Wirklichkeit werden!\nWir sind ein kleines ehrenamtliches Team und freuen uns über alle die uns mit ihren Möglichkeiten unterstützen wollen 🦓🏳️‍🌈\nLern uns am 27.10. kennen. Wir geben dir einen ersten Einblick in die Festivalplanung. Und du kannst all deine Fragen los werden. Wir treffen uns um 18:30 im Zebra Büro (ein Stockwerk über dem Kino).
URL:https://queer-konstanz.de/veranstaltung/queergestreift-zum-mitmachen-kennenlernreffen/
LOCATION:Zebra-Kino\, Joseph-Belli-Weg 5\, Konstanz\, Baden-Württemberg\, 78462\, Germany
CATEGORIES:Entspanntes beisammensein,Infostand
END:VEVENT
END:VCALENDAR