BEGIN:VCALENDAR
VERSION:2.0
PRODID:-//Queer Konstanz - ECPv6.15.17.1//NONSGML v1.0//EN
CALSCALE:GREGORIAN
METHOD:PUBLISH
X-WR-CALNAME:Queer Konstanz
X-ORIGINAL-URL:https://queer-konstanz.de
X-WR-CALDESC:Veranstaltungen für Queer Konstanz
REFRESH-INTERVAL;VALUE=DURATION:PT1H
X-Robots-Tag:noindex
X-PUBLISHED-TTL:PT1H
BEGIN:VTIMEZONE
TZID:Europe/Berlin
BEGIN:DAYLIGHT
TZOFFSETFROM:+0100
TZOFFSETTO:+0200
TZNAME:CEST
DTSTART:20240331T010000
END:DAYLIGHT
BEGIN:STANDARD
TZOFFSETFROM:+0200
TZOFFSETTO:+0100
TZNAME:CET
DTSTART:20241027T010000
END:STANDARD
BEGIN:DAYLIGHT
TZOFFSETFROM:+0100
TZOFFSETTO:+0200
TZNAME:CEST
DTSTART:20250330T010000
END:DAYLIGHT
BEGIN:STANDARD
TZOFFSETFROM:+0200
TZOFFSETTO:+0100
TZNAME:CET
DTSTART:20251026T010000
END:STANDARD
BEGIN:DAYLIGHT
TZOFFSETFROM:+0100
TZOFFSETTO:+0200
TZNAME:CEST
DTSTART:20260329T010000
END:DAYLIGHT
BEGIN:STANDARD
TZOFFSETFROM:+0200
TZOFFSETTO:+0100
TZNAME:CET
DTSTART:20261025T010000
END:STANDARD
END:VTIMEZONE
BEGIN:VEVENT
DTSTART;TZID=Europe/Berlin:20251024T183000
DTEND;TZID=Europe/Berlin:20251024T213000
DTSTAMP:20260425T014541
CREATED:20251017T150116Z
LAST-MODIFIED:20251017T150116Z
UID:2348-1761330600-1761341400@queer-konstanz.de
SUMMARY:Queerer Kreativabend
DESCRIPTION:Du bist queer? Oder du orientierst dich noch? Dann bist du herzlich eingeladen zu unserem Queeren Abend! \nDu kannst kreativ sein oder mit anderen queeren Jugendlichen (von 16 bis 27 Jahren) einfach nur quatschen und eine schöne Zeit verbringen. \nWir freuen uns auf dich! \nDas Team vom JUZE und der Mobilen Jugendarbeit
URL:https://queer-konstanz.de/veranstaltung/queerer-kreativabend/
LOCATION:JUZE – Jugendzentrum Konstanz\, Gustav-Schwab-Straße 12c\, Konstanz - Petershausen\, Deutschland\, 78467
CATEGORIES:Entspanntes beisammensein
END:VEVENT
END:VCALENDAR