BEGIN:VCALENDAR
VERSION:2.0
PRODID:-//Queer Konstanz - ECPv6.15.17.1//NONSGML v1.0//EN
CALSCALE:GREGORIAN
METHOD:PUBLISH
X-WR-CALNAME:Queer Konstanz
X-ORIGINAL-URL:https://queer-konstanz.de
X-WR-CALDESC:Veranstaltungen für Queer Konstanz
REFRESH-INTERVAL;VALUE=DURATION:PT1H
X-Robots-Tag:noindex
X-PUBLISHED-TTL:PT1H
BEGIN:VTIMEZONE
TZID:Europe/Berlin
BEGIN:DAYLIGHT
TZOFFSETFROM:+0100
TZOFFSETTO:+0200
TZNAME:CEST
DTSTART:20240331T010000
END:DAYLIGHT
BEGIN:STANDARD
TZOFFSETFROM:+0200
TZOFFSETTO:+0100
TZNAME:CET
DTSTART:20241027T010000
END:STANDARD
BEGIN:DAYLIGHT
TZOFFSETFROM:+0100
TZOFFSETTO:+0200
TZNAME:CEST
DTSTART:20250330T010000
END:DAYLIGHT
BEGIN:STANDARD
TZOFFSETFROM:+0200
TZOFFSETTO:+0100
TZNAME:CET
DTSTART:20251026T010000
END:STANDARD
BEGIN:DAYLIGHT
TZOFFSETFROM:+0100
TZOFFSETTO:+0200
TZNAME:CEST
DTSTART:20260329T010000
END:DAYLIGHT
BEGIN:STANDARD
TZOFFSETFROM:+0200
TZOFFSETTO:+0100
TZNAME:CET
DTSTART:20261025T010000
END:STANDARD
END:VTIMEZONE
BEGIN:VEVENT
DTSTART;TZID=Europe/Berlin:20251004T110000
DTEND;TZID=Europe/Berlin:20251004T160000
DTSTAMP:20260425T015952
CREATED:20250604T220740Z
LAST-MODIFIED:20250920T101705Z
UID:2188-1759575600-1759593600@queer-konstanz.de
SUMMARY:Kuchen für die Welt - Infostand
DESCRIPTION:Am jeweils 1. Samstag des Monats von Februar bis November findest du uns auf der Marktstätte in Konstanz mit unserem Infostand. Wir geben dort auch süßes oder herzhaft Gebackenes aus\, damit alle entdecken können wie toll veganes Essen ist.
URL:https://queer-konstanz.de/veranstaltung/kuchen-fuer-die-welt-infostand/
LOCATION:Marktstätte\, Konstanz\, 78462
ATTACH;FMTTYPE=image/jpeg:https://queer-konstanz.de/wp-content/uploads/2025/06/Kuchen-fuer-die-Welt-Stand-16_9.jpg
END:VEVENT
END:VCALENDAR