BEGIN:VCALENDAR
VERSION:2.0
PRODID:-//Queer Konstanz - ECPv6.15.17.1//NONSGML v1.0//EN
CALSCALE:GREGORIAN
METHOD:PUBLISH
X-ORIGINAL-URL:https://queer-konstanz.de
X-WR-CALDESC:Veranstaltungen für Queer Konstanz
REFRESH-INTERVAL;VALUE=DURATION:PT1H
X-Robots-Tag:noindex
X-PUBLISHED-TTL:PT1H
BEGIN:VTIMEZONE
TZID:Europe/Berlin
BEGIN:DAYLIGHT
TZOFFSETFROM:+0100
TZOFFSETTO:+0200
TZNAME:CEST
DTSTART:20240331T010000
END:DAYLIGHT
BEGIN:STANDARD
TZOFFSETFROM:+0200
TZOFFSETTO:+0100
TZNAME:CET
DTSTART:20241027T010000
END:STANDARD
BEGIN:DAYLIGHT
TZOFFSETFROM:+0100
TZOFFSETTO:+0200
TZNAME:CEST
DTSTART:20250330T010000
END:DAYLIGHT
BEGIN:STANDARD
TZOFFSETFROM:+0200
TZOFFSETTO:+0100
TZNAME:CET
DTSTART:20251026T010000
END:STANDARD
BEGIN:DAYLIGHT
TZOFFSETFROM:+0100
TZOFFSETTO:+0200
TZNAME:CEST
DTSTART:20260329T010000
END:DAYLIGHT
BEGIN:STANDARD
TZOFFSETFROM:+0200
TZOFFSETTO:+0100
TZNAME:CET
DTSTART:20261025T010000
END:STANDARD
END:VTIMEZONE
BEGIN:VEVENT
DTSTART;TZID=Europe/Berlin:20250720T120000
DTEND;TZID=Europe/Berlin:20250720T170000
DTSTAMP:20260425T060909
CREATED:20250711T130344Z
LAST-MODIFIED:20250711T130344Z
UID:2270-1753012800-1753030800@queer-konstanz.de
SUMMARY:CSD Konstanz - Pride Parade zum 20. Geburtstag
DESCRIPTION:Finally\, der CSD-Tag ist gekommen! Wir feiern den 20. Geburtstag des CSD Konstanz e.V. mit einer Pride-Parade! \nBeginn der Demo um 12 Uhr \nTreffpunkt im Herosé-Park \nBeginn Kundgebung ab ca. 13:30 Uhr  \nim Stadtpark an der Konzertmuschel \n____________________________________________________________________________________ \nIm Stadtpark könnt ihr euch außerdem an verschiedenen Ständen über lokale\, queere und queerfreundliche Initiativen informieren. Außerdem bieten euch der Queere Kaffeeklatsch und Animal Pride im Gegenzug für eine Spende an ihren Ständen Kuchen\, Kaffee\, Eistee und vegane Speisen an. \nAm Stand des CSD Konstanz e.V. könnt ihr außerdem im Gegenzug für eine kleine Spende\, oder als Dankeschön für eine neu abgeschlossene Vereinsmitgliedschaft Pride-Merch bekommen. \nEure Spenden helfen dem CSD Verein seine Vereinskassen wieder zu füllen\, die durch die beiden aufeinanderfolgenden CSDs in 2024 und 2025 ordentlich geleert wurden. Die eingenommenen Spendengelder machen finanzieren die CSDs der nächsten Jahre und helfen dem Verein auch außerhalb des CSDs queere Projekte ins Leben zu rufen\, sowie Unterstützungsprogramme auszubauen. Denkt also daran Bargeld mitzunehmen! \nWir freuen uns auf euch! \nAlle weiteren wichtige Infos rund um den CSD 2025 findet ihr auf den folgenden Seiten: \n  \nDas FAQ zum CSD 2025 – CSD Konstanz \nDie neue Progress – Disability Pride Flag – CSD Konstanz \nNützliche Infos zum CSD 2025 – CSD Konstanz
URL:https://queer-konstanz.de/veranstaltung/csd-konstanz-pride-parade-zum-20-geburtstag/
LOCATION:Baden-Württemberg
ATTACH;FMTTYPE=image/jpeg:https://queer-konstanz.de/wp-content/uploads/2025/07/Pride-Konstanz-2025.jpeg
END:VEVENT
END:VCALENDAR