BEGIN:VCALENDAR
VERSION:2.0
PRODID:-//Queer Konstanz - ECPv6.15.17.1//NONSGML v1.0//EN
CALSCALE:GREGORIAN
METHOD:PUBLISH
X-ORIGINAL-URL:https://queer-konstanz.de
X-WR-CALDESC:Veranstaltungen für Queer Konstanz
REFRESH-INTERVAL;VALUE=DURATION:PT1H
X-Robots-Tag:noindex
X-PUBLISHED-TTL:PT1H
BEGIN:VTIMEZONE
TZID:Europe/Berlin
BEGIN:DAYLIGHT
TZOFFSETFROM:+0100
TZOFFSETTO:+0200
TZNAME:CEST
DTSTART:20240331T010000
END:DAYLIGHT
BEGIN:STANDARD
TZOFFSETFROM:+0200
TZOFFSETTO:+0100
TZNAME:CET
DTSTART:20241027T010000
END:STANDARD
BEGIN:DAYLIGHT
TZOFFSETFROM:+0100
TZOFFSETTO:+0200
TZNAME:CEST
DTSTART:20250330T010000
END:DAYLIGHT
BEGIN:STANDARD
TZOFFSETFROM:+0200
TZOFFSETTO:+0100
TZNAME:CET
DTSTART:20251026T010000
END:STANDARD
BEGIN:DAYLIGHT
TZOFFSETFROM:+0100
TZOFFSETTO:+0200
TZNAME:CEST
DTSTART:20260329T010000
END:DAYLIGHT
BEGIN:STANDARD
TZOFFSETFROM:+0200
TZOFFSETTO:+0100
TZNAME:CET
DTSTART:20261025T010000
END:STANDARD
END:VTIMEZONE
BEGIN:VEVENT
DTSTART;TZID=Europe/Berlin:20250717T000000
DTEND;TZID=Europe/Berlin:20250719T000000
DTSTAMP:20260425T060744
CREATED:20250711T124628Z
LAST-MODIFIED:20250711T130446Z
UID:2267-1752710400-1752883200@queer-konstanz.de
SUMMARY:PRIDE Week Konstanz
DESCRIPTION:Donnerstag\, 17. Juli \nFilm “Lesbian Space Princess” im Neuwerk Innenhof \n  \nFreitag\, 18. Juli \nQueerer Kaffeeklatsch – ein Kennenlern-Treffen \nPre-Party im Contrast \n  \nSamstag\, 19. Juli \nVortrag: „AIDS und die Willkür rechter Akteure“ \nVortrag: „Intersection of queer and national identities“ (example Belarus) \nVortrag: „LGBT-Kampf seit dem Rechtsruck in Polen“ \nCSD-Party im Contrast \n  \nAlle Infos unter:  \nPride Weekend 2025: Programm
URL:https://queer-konstanz.de/veranstaltung/pride-week-konstanz/
LOCATION:Baden-Württemberg
ATTACH;FMTTYPE=image/jpeg:https://queer-konstanz.de/wp-content/uploads/2025/07/Rathaus.jpg
END:VEVENT
BEGIN:VEVENT
DTSTART;TZID=Europe/Berlin:20250717T213000
DTEND;TZID=Europe/Berlin:20250717T213000
DTSTAMP:20260425T060744
CREATED:20250616T155937Z
LAST-MODIFIED:20250616T155937Z
UID:2210-1752787800-1752787800@queer-konstanz.de
SUMMARY:Lesbian Space Princess
DESCRIPTION:Als Warm Up zum CSD Konstanz präsentiert das Zebra Kino Open Air LESBIAN SPACE PRINCESS!\nDie introvertierte Prinzessin Saira\, Tochter der flamboyanten lesbischen Königinnen des Planeten Clitopolis\, ist am Boden zerstört. Ihre Freundin\, die Kopfgeldjägerin Kiki\, hat Schluss gemacht. Saira ist ihr zu anhänglich. Doch als Kiki von den Straight White Maliens – vergessenen Incels der Zukunft – entführt wird\, muss Saira ihren geschützten queeren Raum verlassen\, um den Entführern das zu bringen\, was sie fordern\, damit sie Kiki freilassen: die königliche Labrys\, mächtigste Waffe der lesbischen Zivilisation. Das Problem an der Sache ist allerdings\, dass sie die gar nicht hat und ihr nur 24 Stunden bleiben\, um sie zu beschaffen und Kiki zu retten … Saira begibt sich auf eine inter-gay-laktische Selbstfindungsreise\, auf der sie mit einem verdächtigen Raumschiff konfrontiert wird und sich mit der Ausreißerin Willow anfreundet. Eine humorvolle\, krawallige und bonbonbunte animierte Abenteuerreise durch die Weiten des queeren Weltraums.
URL:https://queer-konstanz.de/veranstaltung/lesbian-space-princess/
LOCATION:Neuwerk – Innenhof\, Oberlohnstraße 3\, Konstanz\, 78467\, Germany
ATTACH;FMTTYPE=image/jpeg:https://queer-konstanz.de/wp-content/uploads/2025/06/Lesbian-Space-Princess.jpg
END:VEVENT
END:VCALENDAR